Package: MsBackendMgf Version: 1.16.0 Command: /home/biocbuild/bbs-3.21-bioc/R/bin/R CMD build --keep-empty-dirs --no-resave-data MsBackendMgf StartedAt: 2025-10-15 18:42:11 -0400 (Wed, 15 Oct 2025) EndedAt: 2025-10-15 18:42:28 -0400 (Wed, 15 Oct 2025) EllapsedTime: 17.0 seconds RetCode: 0 Status: OK PackageFile: MsBackendMgf_1.16.0.tar.gz PackageFileSize: 335.8 KiB