Package: MsBackendMgf Version: 1.16.0 Command: /home/biocbuild/R/R/bin/R CMD INSTALL MsBackendMgf StartedAt: 2025-10-13 20:26:55 -0000 (Mon, 13 Oct 2025) EndedAt: 2025-10-13 20:27:08 -0000 (Mon, 13 Oct 2025) EllapsedTime: 12.6 seconds RetCode: 0 Status: OK