Package: MsBackendMetaboLights Version: 1.2.0 Command: /home/biocbuild/bbs-3.21-bioc/R/bin/R CMD INSTALL MsBackendMetaboLights StartedAt: 2025-10-15 15:13:47 -0400 (Wed, 15 Oct 2025) EndedAt: 2025-10-15 15:13:59 -0400 (Wed, 15 Oct 2025) EllapsedTime: 11.8 seconds RetCode: 0 Status: OK