Package: MsBackendMetaboLights Version: 1.2.0 Command: /home/biocbuild/bbs-3.21-bioc/R/bin/R CMD build --keep-empty-dirs --no-resave-data MsBackendMetaboLights StartedAt: 2025-10-15 18:42:02 -0400 (Wed, 15 Oct 2025) EndedAt: 2025-10-15 18:42:46 -0400 (Wed, 15 Oct 2025) EllapsedTime: 44.0 seconds RetCode: 0 Status: OK PackageFile: MsBackendMetaboLights_1.2.0.tar.gz PackageFileSize: 310.3 KiB