Package: MsBackendMetaboLights Version: 1.2.0 Command: /home/biocbuild/R/R/bin/R CMD INSTALL MsBackendMetaboLights StartedAt: 2025-10-13 20:26:54 -0000 (Mon, 13 Oct 2025) EndedAt: 2025-10-13 20:27:13 -0000 (Mon, 13 Oct 2025) EllapsedTime: 19.2 seconds RetCode: 0 Status: OK