Package: MsBackendMetaboLights Version: 1.2.0 Command: /home/biocbuild/R/R/bin/R CMD build --keep-empty-dirs --no-resave-data MsBackendMetaboLights StartedAt: 2025-10-14 02:48:26 -0000 (Tue, 14 Oct 2025) EndedAt: 2025-10-14 02:49:59 -0000 (Tue, 14 Oct 2025) EllapsedTime: 93.1 seconds RetCode: 0 Status: OK PackageFile: MsBackendMetaboLights_1.2.0.tar.gz PackageFileSize: 377 KiB