Package: MsBackendMetaboLights Version: 1.2.0 Command: /Library/Frameworks/R.framework/Resources/bin/R CMD build --keep-empty-dirs --no-resave-data MsBackendMetaboLights StartedAt: 2025-04-21 17:03:31 -0400 (Mon, 21 Apr 2025) EndedAt: 2025-04-21 17:04:03 -0400 (Mon, 21 Apr 2025) EllapsedTime: 32.4 seconds RetCode: 0 Status: OK PackageFile: MsBackendMetaboLights_1.2.0.tar.gz PackageFileSize: 310.1 KiB