Package: MsBackendMetaboLights Version: 1.2.0 Command: /Library/Frameworks/R.framework/Resources/bin/R CMD INSTALL MsBackendMetaboLights StartedAt: 2025-10-13 15:40:12 -0400 (Mon, 13 Oct 2025) EndedAt: 2025-10-13 15:40:27 -0400 (Mon, 13 Oct 2025) EllapsedTime: 15.1 seconds RetCode: 0 Status: OK