Package: MsBackendMetaboLights Version: 1.2.0 Command: rm -rf MsBackendMetaboLights.buildbin-libdir && mkdir MsBackendMetaboLights.buildbin-libdir && /Users/biocbuild/BBS/utils/build-universal.sh MsBackendMetaboLights_1.2.0.tar.gz /Library/Frameworks/R.framework/Resources/bin/R MsBackendMetaboLights.buildbin-libdir StartedAt: 2025-10-15 19:28:31 -0400 (Wed, 15 Oct 2025) EndedAt: 2025-10-15 19:28:48 -0400 (Wed, 15 Oct 2025) EllapsedTime: 17.1 seconds RetCode: 0 Status: OK PackageFile: MsBackendMetaboLights_1.2.0.tgz PackageFileSize: 351.6 KiB