Package: MouseFM Version: 1.18.0 Command: rm -rf MouseFM.buildbin-libdir && mkdir MouseFM.buildbin-libdir && /Users/biocbuild/BBS/utils/build-universal.sh MouseFM_1.18.0.tar.gz /Library/Frameworks/R.framework/Resources/bin/R MouseFM.buildbin-libdir StartedAt: 2025-04-22 00:56:16 -0400 (Tue, 22 Apr 2025) EndedAt: 2025-04-22 00:56:42 -0400 (Tue, 22 Apr 2025) EllapsedTime: 26.2 seconds RetCode: 0 Status: OK PackageFile: MouseFM_1.18.0.tgz PackageFileSize: 829.9 KiB