Package: MouseFM Version: 1.18.0 Command: /Library/Frameworks/R.framework/Resources/bin/R CMD INSTALL MouseFM StartedAt: 2025-10-13 18:08:18 -0400 (Mon, 13 Oct 2025) EndedAt: 2025-10-13 18:08:38 -0400 (Mon, 13 Oct 2025) EllapsedTime: 20.5 seconds RetCode: 0 Status: OK