Package: MouseFM Version: 1.18.0 Command: rm -rf MouseFM.buildbin-libdir && mkdir MouseFM.buildbin-libdir && /Users/biocbuild/BBS/utils/build-universal.sh MouseFM_1.18.0.tar.gz /Library/Frameworks/R.framework/Resources/bin/R MouseFM.buildbin-libdir StartedAt: 2025-10-15 19:27:52 -0400 (Wed, 15 Oct 2025) EndedAt: 2025-10-15 19:28:15 -0400 (Wed, 15 Oct 2025) EllapsedTime: 23.6 seconds RetCode: 0 Status: OK PackageFile: MouseFM_1.18.0.tgz PackageFileSize: 830.1 KiB