Package: MoonlightR Version: 1.34.0 Command: /home/biocbuild/R/R/bin/R CMD INSTALL MoonlightR StartedAt: 2025-10-13 21:11:15 -0000 (Mon, 13 Oct 2025) EndedAt: 2025-10-13 21:12:25 -0000 (Mon, 13 Oct 2025) EllapsedTime: 69.6 seconds RetCode: 0 Status: OK