Package: MoleculeExperiment Version: 1.8.0 Command: /home/biocbuild/R/R/bin/R CMD INSTALL MoleculeExperiment StartedAt: 2025-10-13 20:36:38 -0000 (Mon, 13 Oct 2025) EndedAt: 2025-10-13 20:37:39 -0000 (Mon, 13 Oct 2025) EllapsedTime: 61.1 seconds RetCode: 0 Status: OK