Package: MoleculeExperiment Version: 1.8.0 Command: /home/biocbuild/R/R/bin/R CMD build --keep-empty-dirs --no-resave-data MoleculeExperiment StartedAt: 2025-10-14 02:39:08 -0000 (Tue, 14 Oct 2025) EndedAt: 2025-10-14 02:41:39 -0000 (Tue, 14 Oct 2025) EllapsedTime: 151.0 seconds RetCode: 0 Status: OK PackageFile: MoleculeExperiment_1.8.0.tar.gz PackageFileSize: 15.44 MiB