Package: Modstrings Version: 1.24.0 Command: /Library/Frameworks/R.framework/Resources/bin/R CMD INSTALL Modstrings StartedAt: 2025-10-13 15:28:22 -0400 (Mon, 13 Oct 2025) EndedAt: 2025-10-13 15:29:04 -0400 (Mon, 13 Oct 2025) EllapsedTime: 41.8 seconds RetCode: 0 Status: OK