Package: Modstrings Version: 1.24.0 Command: /Library/Frameworks/R.framework/Resources/bin/R CMD INSTALL Modstrings StartedAt: 2025-10-13 16:02:18 -0400 (Mon, 13 Oct 2025) EndedAt: 2025-10-13 16:02:39 -0400 (Mon, 13 Oct 2025) EllapsedTime: 21.0 seconds RetCode: 0 Status: OK