Package: Modstrings Version: 1.24.0 Command: /Library/Frameworks/R.framework/Resources/bin/R CMD check --install=check:Modstrings.install-out.txt --library=/Library/Frameworks/R.framework/Resources/library --no-vignettes --timings Modstrings_1.24.0.tar.gz StartedAt: 2025-10-15 04:22:53 -0400 (Wed, 15 Oct 2025) EndedAt: 2025-10-15 04:25:21 -0400 (Wed, 15 Oct 2025) EllapsedTime: 148.2 seconds RetCode: 0 Status: OK CheckDir: Modstrings.Rcheck Warnings: 0