Package: Modstrings Version: 1.24.0 Command: /Library/Frameworks/R.framework/Resources/bin/R CMD build --keep-empty-dirs --no-resave-data Modstrings StartedAt: 2025-10-14 04:46:49 -0400 (Tue, 14 Oct 2025) EndedAt: 2025-10-14 04:47:25 -0400 (Tue, 14 Oct 2025) EllapsedTime: 36.3 seconds RetCode: 0 Status: OK PackageFile: Modstrings_1.24.0.tar.gz PackageFileSize: 823.5 KiB