Package: ModCon Version: 1.16.0 Command: /Library/Frameworks/R.framework/Resources/bin/R CMD build --keep-empty-dirs --no-resave-data ModCon StartedAt: 2025-10-14 04:46:25 -0400 (Tue, 14 Oct 2025) EndedAt: 2025-10-14 04:48:26 -0400 (Tue, 14 Oct 2025) EllapsedTime: 121.1 seconds RetCode: 0 Status: OK PackageFile: ModCon_1.16.0.tar.gz PackageFileSize: 1.912 MiB