Package: MinimumDistance Version: 1.52.1 Command: /home/biocbuild/R/R/bin/R CMD INSTALL MinimumDistance StartedAt: 2025-10-13 20:50:32 -0000 (Mon, 13 Oct 2025) EndedAt: 2025-10-13 20:51:42 -0000 (Mon, 13 Oct 2025) EllapsedTime: 69.7 seconds RetCode: 0 Status: OK