Package: MicrobiotaProcess Version: 1.20.2 Command: /home/biocbuild/R/R/bin/R CMD INSTALL MicrobiotaProcess StartedAt: 2025-10-13 20:30:55 -0000 (Mon, 13 Oct 2025) EndedAt: 2025-10-13 20:32:31 -0000 (Mon, 13 Oct 2025) EllapsedTime: 95.9 seconds RetCode: 0 Status: OK