Package: MicrobiotaProcess Version: 1.20.2 Command: /home/biocbuild/R/R/bin/R CMD build --keep-empty-dirs --no-resave-data MicrobiotaProcess StartedAt: 2025-10-14 02:28:34 -0000 (Tue, 14 Oct 2025) EndedAt: 2025-10-14 02:31:39 -0000 (Tue, 14 Oct 2025) EllapsedTime: 185.1 seconds RetCode: 1 Status: ERROR PackageFile: None PackageFileSize: NA