Package: MicrobiotaProcess Version: 1.20.2 Command: /Library/Frameworks/R.framework/Resources/bin/R CMD build --keep-empty-dirs --no-resave-data MicrobiotaProcess StartedAt: 2025-10-14 04:21:06 -0400 (Tue, 14 Oct 2025) EndedAt: 2025-10-14 04:24:15 -0400 (Tue, 14 Oct 2025) EllapsedTime: 189.0 seconds RetCode: 0 Status: OK PackageFile: MicrobiotaProcess_1.20.2.tar.gz PackageFileSize: 5.024 MiB