Package: MicrobiomeProfiler Version: 1.14.0 Command: /home/biocbuild/bbs-3.21-bioc/R/bin/R CMD build --keep-empty-dirs --no-resave-data MicrobiomeProfiler StartedAt: 2025-10-15 18:31:01 -0400 (Wed, 15 Oct 2025) EndedAt: 2025-10-15 18:31:27 -0400 (Wed, 15 Oct 2025) EllapsedTime: 26.0 seconds RetCode: 0 Status: OK PackageFile: MicrobiomeProfiler_1.14.0.tar.gz PackageFileSize: 1.051 MiB