Package: MethylSeekR Version: 1.48.0 Command: /home/biocbuild/R/R/bin/R CMD INSTALL MethylSeekR StartedAt: 2025-10-13 20:42:40 -0000 (Mon, 13 Oct 2025) EndedAt: 2025-10-13 20:43:23 -0000 (Mon, 13 Oct 2025) EllapsedTime: 42.6 seconds RetCode: 0 Status: OK