Package: MethylSeekR Version: 1.48.0 Command: /home/biocbuild/R/R/bin/R CMD build --keep-empty-dirs --no-resave-data MethylSeekR StartedAt: 2025-10-14 02:23:22 -0000 (Tue, 14 Oct 2025) EndedAt: 2025-10-14 02:25:44 -0000 (Tue, 14 Oct 2025) EllapsedTime: 142.0 seconds RetCode: 0 Status: OK PackageFile: MethylSeekR_1.48.0.tar.gz PackageFileSize: 1.59 MiB