Package: MethTargetedNGS Version: 1.40.0 Command: rm -rf MethTargetedNGS.buildbin-libdir && mkdir MethTargetedNGS.buildbin-libdir && E:\biocbuild\bbs-3.21-bioc\R\bin\R.exe CMD INSTALL --build --library=MethTargetedNGS.buildbin-libdir MethTargetedNGS_1.40.0.tar.gz StartedAt: 2025-08-15 09:40:35 -0400 (Fri, 15 Aug 2025) EndedAt: 2025-08-15 09:40:54 -0400 (Fri, 15 Aug 2025) EllapsedTime: 19.1 seconds RetCode: 0 Status: OK PackageFile: MethTargetedNGS_1.40.0.zip PackageFileSize: 175.2 KiB