Package: MethTargetedNGS Version: 1.40.0 Command: rm -rf MethTargetedNGS.buildbin-libdir && mkdir MethTargetedNGS.buildbin-libdir && /Users/biocbuild/BBS/utils/build-universal.sh MethTargetedNGS_1.40.0.tar.gz /Library/Frameworks/R.framework/Resources/bin/R MethTargetedNGS.buildbin-libdir StartedAt: 2025-10-14 13:59:43 -0400 (Tue, 14 Oct 2025) EndedAt: 2025-10-14 14:00:45 -0400 (Tue, 14 Oct 2025) EllapsedTime: 62.0 seconds RetCode: 0 Status: OK PackageFile: MethTargetedNGS_1.40.0.tgz PackageFileSize: 322.8 KiB