Package: MethReg Version: 1.18.0 Command: /home/biocbuild/R/R/bin/R CMD INSTALL MethReg StartedAt: 2025-10-13 21:10:57 -0000 (Mon, 13 Oct 2025) EndedAt: 2025-10-13 21:12:06 -0000 (Mon, 13 Oct 2025) EllapsedTime: 69.7 seconds RetCode: 0 Status: OK