Package: MetaboSignal Version: 1.38.0 Command: /home/biocbuild/R/R/bin/R CMD INSTALL MetaboSignal StartedAt: 2025-10-13 20:58:05 -0000 (Mon, 13 Oct 2025) EndedAt: 2025-10-13 20:59:16 -0000 (Mon, 13 Oct 2025) EllapsedTime: 70.5 seconds RetCode: 0 Status: OK