Package: MetaboDynamics Version: 1.0.2 Command: /home/biocbuild/bbs-3.21-bioc/R/bin/R CMD INSTALL MetaboDynamics StartedAt: 2025-10-15 15:24:22 -0400 (Wed, 15 Oct 2025) EndedAt: 2025-10-15 15:27:56 -0400 (Wed, 15 Oct 2025) EllapsedTime: 214.1 seconds RetCode: 0 Status: OK