Package: MetaboDynamics Version: 1.0.2 Command: /home/biocbuild/bbs-3.21-bioc/R/bin/R CMD build --keep-empty-dirs --no-resave-data MetaboDynamics StartedAt: 2025-10-15 18:23:18 -0400 (Wed, 15 Oct 2025) EndedAt: 2025-10-15 18:29:01 -0400 (Wed, 15 Oct 2025) EllapsedTime: 342.3 seconds RetCode: 0 Status: OK PackageFile: MetaboDynamics_1.0.2.tar.gz PackageFileSize: 6.69 MiB