Package: MetaboDynamics Version: 1.0.2 Command: /home/biocbuild/R/R/bin/R CMD INSTALL MetaboDynamics StartedAt: 2025-10-13 20:38:51 -0000 (Mon, 13 Oct 2025) EndedAt: 2025-10-13 20:44:25 -0000 (Mon, 13 Oct 2025) EllapsedTime: 333.3 seconds RetCode: 0 Status: OK