Package: MetaboDynamics Version: 1.0.2 Command: /home/biocbuild/R/R/bin/R CMD build --keep-empty-dirs --no-resave-data MetaboDynamics StartedAt: 2025-10-14 02:14:51 -0000 (Tue, 14 Oct 2025) EndedAt: 2025-10-14 02:23:22 -0000 (Tue, 14 Oct 2025) EllapsedTime: 511.1 seconds RetCode: 0 Status: OK PackageFile: MetaboDynamics_1.0.2.tar.gz PackageFileSize: 6.334 MiB