Package: MetaboCoreUtils Version: 1.16.1 Command: /home/biocbuild/bbs-3.21-bioc/R/bin/R CMD build --keep-empty-dirs --no-resave-data MetaboCoreUtils StartedAt: 2025-10-15 18:23:04 -0400 (Wed, 15 Oct 2025) EndedAt: 2025-10-15 18:23:18 -0400 (Wed, 15 Oct 2025) EllapsedTime: 14.0 seconds RetCode: 0 Status: OK PackageFile: MetaboCoreUtils_1.16.1.tar.gz PackageFileSize: 1.278 MiB