Package: MetaboCoreUtils Version: 1.16.1 Command: /Library/Frameworks/R.framework/Resources/bin/R CMD INSTALL MetaboCoreUtils StartedAt: 2025-10-13 15:24:07 -0400 (Mon, 13 Oct 2025) EndedAt: 2025-10-13 15:24:18 -0400 (Mon, 13 Oct 2025) EllapsedTime: 11.0 seconds RetCode: 0 Status: OK