Package: MetaboCoreUtils Version: 1.16.1 Command: /home/biocbuild/R/R/bin/R CMD INSTALL MetaboCoreUtils StartedAt: 2025-10-13 20:25:10 -0000 (Mon, 13 Oct 2025) EndedAt: 2025-10-13 20:25:18 -0000 (Mon, 13 Oct 2025) EllapsedTime: 7.9 seconds RetCode: 0 Status: OK