Package: MetaboCoreUtils Version: 1.16.1 Command: /home/biocbuild/R/R/bin/R CMD build --keep-empty-dirs --no-resave-data MetaboCoreUtils StartedAt: 2025-10-14 02:14:33 -0000 (Tue, 14 Oct 2025) EndedAt: 2025-10-14 02:14:51 -0000 (Tue, 14 Oct 2025) EllapsedTime: 18.0 seconds RetCode: 0 Status: OK PackageFile: MetaboCoreUtils_1.16.1.tar.gz PackageFileSize: 1.024 MiB