Package: MetaboAnnotation Version: 1.12.0 Command: /home/biocbuild/bbs-3.21-bioc/R/bin/R CMD INSTALL MetaboAnnotation StartedAt: 2025-10-15 15:35:21 -0400 (Wed, 15 Oct 2025) EndedAt: 2025-10-15 15:36:02 -0400 (Wed, 15 Oct 2025) EllapsedTime: 40.3 seconds RetCode: 0 Status: OK