Package: MetaboAnnotation Version: 1.12.0 Command: /Library/Frameworks/R.framework/Resources/bin/R CMD INSTALL MetaboAnnotation StartedAt: 2025-10-13 16:05:56 -0400 (Mon, 13 Oct 2025) EndedAt: 2025-10-13 16:07:21 -0400 (Mon, 13 Oct 2025) EllapsedTime: 85.1 seconds RetCode: 0 Status: OK