Package: MetaboAnnotation Version: 1.12.0 Command: /Library/Frameworks/R.framework/Resources/bin/R CMD build --keep-empty-dirs --no-resave-data MetaboAnnotation StartedAt: 2025-10-13 20:20:27 -0400 (Mon, 13 Oct 2025) EndedAt: 2025-10-13 20:23:55 -0400 (Mon, 13 Oct 2025) EllapsedTime: 208.6 seconds RetCode: 0 Status: OK PackageFile: MetaboAnnotation_1.12.0.tar.gz PackageFileSize: 1.249 MiB