Package: MetaboAnnotation Version: 1.12.0 Command: /home/biocbuild/R/R/bin/R CMD INSTALL MetaboAnnotation StartedAt: 2025-10-13 20:51:50 -0000 (Mon, 13 Oct 2025) EndedAt: 2025-10-13 20:52:48 -0000 (Mon, 13 Oct 2025) EllapsedTime: 58.6 seconds RetCode: 0 Status: OK