Package: MetaboAnnotation Version: 1.12.0 Command: /home/biocbuild/R/R/bin/R CMD build --keep-empty-dirs --no-resave-data MetaboAnnotation StartedAt: 2025-10-14 02:14:32 -0000 (Tue, 14 Oct 2025) EndedAt: 2025-10-14 02:16:51 -0000 (Tue, 14 Oct 2025) EllapsedTime: 139.1 seconds RetCode: 0 Status: OK PackageFile: MetaboAnnotation_1.12.0.tar.gz PackageFileSize: 1.289 MiB