Package: MetaboAnnotation Version: 1.12.0 Command: /Library/Frameworks/R.framework/Resources/bin/R CMD build --keep-empty-dirs --no-resave-data MetaboAnnotation StartedAt: 2025-10-14 03:43:32 -0400 (Tue, 14 Oct 2025) EndedAt: 2025-10-14 03:45:41 -0400 (Tue, 14 Oct 2025) EllapsedTime: 129.1 seconds RetCode: 0 Status: OK PackageFile: MetaboAnnotation_1.12.0.tar.gz PackageFileSize: 1.25 MiB