Package: MetaboAnnotation Version: 1.12.0 Command: rm -rf MetaboAnnotation.buildbin-libdir && mkdir MetaboAnnotation.buildbin-libdir && /Users/biocbuild/BBS/utils/build-universal.sh MetaboAnnotation_1.12.0.tar.gz /Library/Frameworks/R.framework/Resources/bin/R MetaboAnnotation.buildbin-libdir StartedAt: 2025-10-15 19:12:42 -0400 (Wed, 15 Oct 2025) EndedAt: 2025-10-15 19:13:36 -0400 (Wed, 15 Oct 2025) EllapsedTime: 54.1 seconds RetCode: 0 Status: OK PackageFile: MetaboAnnotation_1.12.0.tgz PackageFileSize: 1.757 MiB