Package: MetaPhOR Version: 1.10.0 Command: /home/biocbuild/R/R/bin/R CMD build --keep-empty-dirs --no-resave-data MetaPhOR StartedAt: 2025-10-14 02:16:15 -0000 (Tue, 14 Oct 2025) EndedAt: 2025-10-14 02:35:15 -0000 (Tue, 14 Oct 2025) EllapsedTime: 1140.3 seconds RetCode: 0 Status: OK PackageFile: MetaPhOR_1.10.0.tar.gz PackageFileSize: 2.628 MiB