Package: MetaNeighbor Version: 1.28.0 Command: /home/biocbuild/bbs-3.21-bioc/R/bin/R CMD build --keep-empty-dirs --no-resave-data MetaNeighbor StartedAt: 2025-10-15 18:24:14 -0400 (Wed, 15 Oct 2025) EndedAt: 2025-10-15 18:24:46 -0400 (Wed, 15 Oct 2025) EllapsedTime: 32.0 seconds RetCode: 0 Status: OK PackageFile: MetaNeighbor_1.28.0.tar.gz PackageFileSize: 3.195 MiB