Package: MetaNeighbor Version: 1.28.0 Command: /Library/Frameworks/R.framework/Resources/bin/R CMD INSTALL MetaNeighbor StartedAt: 2025-10-13 15:38:27 -0400 (Mon, 13 Oct 2025) EndedAt: 2025-10-13 15:38:34 -0400 (Mon, 13 Oct 2025) EllapsedTime: 7.5 seconds RetCode: 0 Status: OK