Package: MetaNeighbor Version: 1.28.0 Command: /home/biocbuild/R/R/bin/R CMD INSTALL MetaNeighbor StartedAt: 2025-10-13 20:34:15 -0000 (Mon, 13 Oct 2025) EndedAt: 2025-10-13 20:34:21 -0000 (Mon, 13 Oct 2025) EllapsedTime: 5.5 seconds RetCode: 0 Status: OK